BEGIN:VCALENDAR
VERSION:2.0
PRODID:-//Northern Alliance Games - ECPv6.15.20//NONSGML v1.0//EN
CALSCALE:GREGORIAN
METHOD:PUBLISH
X-ORIGINAL-URL:https://northernalliancegames.co.uk
X-WR-CALDESC:Events for Northern Alliance Games
REFRESH-INTERVAL;VALUE=DURATION:PT1H
X-Robots-Tag:noindex
X-PUBLISHED-TTL:PT1H
BEGIN:VTIMEZONE
TZID:UTC
BEGIN:STANDARD
TZOFFSETFROM:+0000
TZOFFSETTO:+0000
TZNAME:UTC
DTSTART:20240101T000000
END:STANDARD
END:VTIMEZONE
BEGIN:VEVENT
DTSTART;TZID=UTC:20250201T140000
DTEND;TZID=UTC:20250201T190000
DTSTAMP:20260419T190249
CREATED:20250103T144248Z
LAST-MODIFIED:20250103T145510Z
UID:3070-1738418400-1738436400@northernalliancegames.co.uk
SUMMARY:Board Games group
DESCRIPTION:Join other board game fans for some board gaming! \n  \nMake use of our extensive board gaming library. \n  \nRSVP below so we have an idea of if you would like to attend (Although it is not required)
URL:https://northernalliancegames.co.uk/event/board-games-group/
LOCATION:Northern Alliance Games\, Hoults Yard\, 6 Maling Court\,\, NEWCASTLE UPON TYNE\, Tyne and Wear\, NE6 2HL\, United Kingdom
CATEGORIES:Board Games
ORGANIZER;CN="Sam Bray":MAILTO:sampbray@gmail.com
END:VEVENT
END:VCALENDAR