BEGIN:VCALENDAR
VERSION:2.0
PRODID:-//Northern Alliance Games - ECPv6.15.20//NONSGML v1.0//EN
CALSCALE:GREGORIAN
METHOD:PUBLISH
X-WR-CALNAME:Northern Alliance Games
X-ORIGINAL-URL:https://northernalliancegames.co.uk
X-WR-CALDESC:Events for Northern Alliance Games
REFRESH-INTERVAL;VALUE=DURATION:PT1H
X-Robots-Tag:noindex
X-PUBLISHED-TTL:PT1H
BEGIN:VTIMEZONE
TZID:UTC
BEGIN:STANDARD
TZOFFSETFROM:+0000
TZOFFSETTO:+0000
TZNAME:UTC
DTSTART:20240101T000000
END:STANDARD
END:VTIMEZONE
BEGIN:VEVENT
DTSTART;TZID=UTC:20250222T180000
DTEND;TZID=UTC:20250222T210000
DTSTAMP:20260423T085208
CREATED:20250111T210111Z
LAST-MODIFIED:20250111T214110Z
UID:3215-1740247200-1740258000@northernalliancegames.co.uk
SUMMARY:Loyalty Set 2 Pre-release event 2
DESCRIPTION:Format – Sealed Deck: £25 Entry \nPlayers receive 4x set 2 “Outer Ravaan” packs of 13* cards to build their two 25-card decks with. Then play four to five rounds. (Help is available if you have never done this before.) \n*The set of 4 packs will include 2 rules-tip/ blockade cards and two Northern Alliance Games logo Foils. \nSleeves will be available to purchase from the shop or you can bring your own.\nYou’ll need 2 sets of 25 sleeves. (two different colours) \n \nPrizes are given out based on final standings. All participants receive the February organised play promo (an Alt Art FOIL Hydra of Lake Ravaan) \nThere are four special promos for this event \n1st First choice of a Store Logo FOIL legendary to choose from.\n(Fire Hydra or Demote to Memory)\n2nd The other Store Logo FOIL legendary (Fire Hydra or Demote to Memory)\n3rd Foil Northern Alliance Games Blockade Card \nLast place gets a special one of a kind FOIL Store logo UNLUCKY promo.
URL:https://northernalliancegames.co.uk/event/loyalty-set-2-pre-release-event/
LOCATION:Northern Alliance Games\, Hoults Yard\, 6 Maling Court\,\, NEWCASTLE UPON TYNE\, Tyne and Wear\, NE6 2HL\, United Kingdom
CATEGORIES:Loyalty TCG
ATTACH;FMTTYPE=image/png:https://northernalliancegames.co.uk/wp-content/uploads/2025/01/Loyalty-Pre-Release-outer-ravaan.png
ORGANIZER;CN="Sam Bray":MAILTO:sampbray@gmail.com
END:VEVENT
BEGIN:VEVENT
DTSTART;TZID=UTC:20250215T180000
DTEND;TZID=UTC:20250215T210000
DTSTAMP:20260423T085208
CREATED:20250111T213010Z
LAST-MODIFIED:20250212T172528Z
UID:3225-1739642400-1739653200@northernalliancegames.co.uk
SUMMARY:Loyalty Set 2 Pre-release event 1
DESCRIPTION:Format – Sealed Deck: £25 Entry \nPlayers receive 4x set 2 “Outer Ravaan” packs of 13* cards to build their two 25-card decks with. Then play four to five rounds. (Help is available if you have never done this before.) \n*The set of 4 packs will include 2 rules-tip/ blockade cards and two Northern Alliance Games logo Foils. \nSleeves will be available to purchase from the shop or you can bring your own.\nYou’ll need 2 sets of 25 sleeves. (two different colours) \n \nPrizes are given out based on final standings. All participants receive the February organised play promo (an Alt Art FOIL Hydra of Lake Ravaan) \nThere are four special promos for this event \n1st First choice of a Store Logo FOIL legendary to choose from.\n(Fire Hydra or Demote to Memory)\n2nd The other Store Logo FOIL legendary (Fire Hydra or Demote to Memory)\n3rd Foil Northern Alliance Games Blockade Card \nLast place gets a special one of a kind FOIL Store logo UNLUCKY promo.
URL:https://northernalliancegames.co.uk/event/loyalty-set-2-pre-release-event-1/
LOCATION:Northern Alliance Games\, Hoults Yard\, 6 Maling Court\,\, NEWCASTLE UPON TYNE\, Tyne and Wear\, NE6 2HL\, United Kingdom
CATEGORIES:Loyalty TCG
ATTACH;FMTTYPE=image/png:https://northernalliancegames.co.uk/wp-content/uploads/2025/01/Loyalty-Pre-Release-outer-ravaan-0215.png
ORGANIZER;CN="Sam Bray":MAILTO:sampbray@gmail.com
END:VEVENT
BEGIN:VEVENT
DTSTART;TZID=UTC:20250111T184500
DTEND;TZID=UTC:20250111T213000
DTSTAMP:20260423T085208
CREATED:20250108T202407Z
LAST-MODIFIED:20250108T202407Z
UID:3193-1736621100-1736631000@northernalliancegames.co.uk
SUMMARY:Loyalty TCG Draft - Free event!
DESCRIPTION:The creators of Loyalty TCG are going to be running a draft event from the first set of the Loyalty TCG.\n\nStart 19:00\nPlease arrive at 18:45 or before so we can assign you to a pod.\n\n\n8 players max capacity 2 pods of 4\n\n\nFree entry\, but you don’t keep the cards.\nPlayer rewards are active for this event. (Report your event record for player rewards) \nPlease get in touch with us via Facebook\, the website or Discord to reserve your space.
URL:https://northernalliancegames.co.uk/event/loyalty-tcg-draft-free-event/
LOCATION:Northern Alliance Games\, Hoults Yard\, 6 Maling Court\,\, NEWCASTLE UPON TYNE\, Tyne and Wear\, NE6 2HL\, United Kingdom
CATEGORIES:Loyalty TCG
ATTACH;FMTTYPE=image/jpeg:https://northernalliancegames.co.uk/wp-content/uploads/2025/01/Loyalty-ad.jpg
ORGANIZER;CN="Sam Bray":MAILTO:sampbray@gmail.com
END:VEVENT
END:VCALENDAR