BEGIN:VCALENDAR
VERSION:2.0
PRODID:-//Northern Alliance Games - ECPv6.15.20//NONSGML v1.0//EN
CALSCALE:GREGORIAN
METHOD:PUBLISH
X-ORIGINAL-URL:https://northernalliancegames.co.uk
X-WR-CALDESC:Events for Northern Alliance Games
REFRESH-INTERVAL;VALUE=DURATION:PT1H
X-Robots-Tag:noindex
X-PUBLISHED-TTL:PT1H
BEGIN:VTIMEZONE
TZID:UTC
BEGIN:STANDARD
TZOFFSETFROM:+0000
TZOFFSETTO:+0000
TZNAME:UTC
DTSTART:20250101T000000
END:STANDARD
END:VTIMEZONE
BEGIN:VEVENT
DTSTART;TZID=UTC:20260116T180000
DTEND;TZID=UTC:20260116T220000
DTSTAMP:20260421T152415
CREATED:20251210T221705Z
LAST-MODIFIED:20260110T113321Z
UID:6002-1768586400-1768600800@northernalliancegames.co.uk
SUMMARY:MTG Lorwyn Eclipsed Pre-release!
DESCRIPTION:Prerelease is your first opportunity to get your hands on the newest Magic: The Gathering release and explore what the set has to offer. Prerelease Packs contain everything a player needs to be guided through deck building and begin facing off in epic one-on-one matches. \nIn the pre-release event\, you will open your pack\, create a deck of 40 cards from those that you open (You can borrow any basic lands from us that you need)\, then compete in 3 rounds of 1v1 games. \nWe are pleased to be also offering Ultimate Guard Items as Prize Support for our pre-release events.\n \nMore about Lorwyn Eclipsed \nDare to enter the ever-changing plane of Lorwyn and Shadowmoor. Summon beloved Kithkin\, boggarts\, merrow\, and Elves\, that feature new and returning mechanics as well as art from new and returning Lorwyn™ artists! Discover your true self by crossing the boundary of eternal day into eternal night and rise triumphant as a master of order and chaos. \n\n\nContents:\n\n\n6 Lorwyn Eclipsed Play Boosters\n\nEach Play Booster contains 14 Magic: The Gathering cards \n\nMay contain these cards: ECL 1–351; SPG 129–148\n1–4 cards of rarity rare or higher (2: 27%; 3: 2%; 4: <1%)\n3–5 uncommon cards\n6–9 common cards\n1 land\n1 card of any rarity is traditional foil\nFoil borderless mythic rare in <1% of boosters\nTraditional foil land replaces a land in 20% of boosters\n1 traditional foil rare/mythic rare card\nSpindown™ life counter
URL:https://northernalliancegames.co.uk/event/mtg-lorwyn-eclipsed-pre-release/
LOCATION:Northern Alliance Games\, Hoults Yard\, 6 Maling Court\,\, NEWCASTLE UPON TYNE\, Tyne and Wear\, NE6 2HL\, United Kingdom
CATEGORIES:Magic the Gathering,Pre-release
ATTACH;FMTTYPE=image/png:https://northernalliancegames.co.uk/wp-content/uploads/2025/12/Lorwyn-Prerelase.png
ORGANIZER;CN="Sam Bray":MAILTO:sampbray@gmail.com
END:VEVENT
END:VCALENDAR