BEGIN:VCALENDAR
VERSION:2.0
PRODID:-//Northern Alliance Games - ECPv6.15.20//NONSGML v1.0//EN
CALSCALE:GREGORIAN
METHOD:PUBLISH
X-WR-CALNAME:Northern Alliance Games
X-ORIGINAL-URL:https://northernalliancegames.co.uk
X-WR-CALDESC:Events for Northern Alliance Games
REFRESH-INTERVAL;VALUE=DURATION:PT1H
X-Robots-Tag:noindex
X-PUBLISHED-TTL:PT1H
BEGIN:VTIMEZONE
TZID:UTC
BEGIN:STANDARD
TZOFFSETFROM:+0000
TZOFFSETTO:+0000
TZNAME:UTC
DTSTART:20250101T000000
END:STANDARD
END:VTIMEZONE
BEGIN:VEVENT
DTSTART;TZID=UTC:20260509T130000
DTEND;TZID=UTC:20260509T170000
DTSTAMP:20260421T120850
CREATED:20260416T143232Z
LAST-MODIFIED:20260416T143232Z
UID:8954-1778331600-1778346000@northernalliancegames.co.uk
SUMMARY:Pokemon Mega Evolution: Chaos Rising Pre-release event Saturday 9th May
DESCRIPTION:Your first chance to get your hands on the cards from the new set\, Chaos Rising! \nEach player will be given a build and battle box that includes 1 x 40-card ready-to-play deck and 4 Chaos Rising Boosters to further enhance your deck. \nPlayers will have 50 minutes to customise/build their deck before they go head-to-head in three rounds of swiss format best of three matches. \nPlease bring your Pokémon Player ID. If you have not got one\, please register with Pokemon Play before attending. Each round last 55 minutes. \nThere will be participation prizes on the day. \n 
URL:https://northernalliancegames.co.uk/event/pokemon-mega-evolution-chaos-rising-pre-release-event-saturday-9th-may/
LOCATION:Northern Alliance Games\, Hoults Yard\, 6 Maling Court\,\, NEWCASTLE UPON TYNE\, Tyne and Wear\, NE6 2HL\, United Kingdom
CATEGORIES:Pokemon TCG,Pre-release
ATTACH;FMTTYPE=image/png:https://northernalliancegames.co.uk/wp-content/uploads/2026/04/260509-Chaos-Rising-Prerelease.png
ORGANIZER;CN="Sam Bray":MAILTO:sampbray@gmail.com
END:VEVENT
END:VCALENDAR