BEGIN:VCALENDAR
VERSION:2.0
PRODID:-//Northern Alliance Games - ECPv6.15.20//NONSGML v1.0//EN
CALSCALE:GREGORIAN
METHOD:PUBLISH
X-WR-CALNAME:Northern Alliance Games
X-ORIGINAL-URL:https://northernalliancegames.co.uk
X-WR-CALDESC:Events for Northern Alliance Games
REFRESH-INTERVAL;VALUE=DURATION:PT1H
X-Robots-Tag:noindex
X-PUBLISHED-TTL:PT1H
BEGIN:VTIMEZONE
TZID:UTC
BEGIN:STANDARD
TZOFFSETFROM:+0000
TZOFFSETTO:+0000
TZNAME:UTC
DTSTART:20240101T000000
END:STANDARD
END:VTIMEZONE
BEGIN:VEVENT
DTSTART;TZID=UTC:20260417T180000
DTEND;TZID=UTC:20260417T220000
DTSTAMP:20260419T135422
CREATED:20260302T004410Z
LAST-MODIFIED:20260402T210845Z
UID:7536-1776448800-1776463200@northernalliancegames.co.uk
SUMMARY:Magic the Gathering: Secrets of Strixhaven Pre-Release event Friday 17th April
DESCRIPTION:Welcome to the Pre-Release for Magic: The Gathering Secrets of Strixhaven\n\nJoin us for your first opportunity to get your hands on the newest Magic: The Gathering release and explore what the set has to offer.\n\nPrerelease events and the Packs are perfect to fuel the first events of this new set.\n\nYou receive your pack and have 30 minutes to build a 40-card deck (You can borrow lands from us). Then there will be 3 or 4 rounds of Swiss pairings. As usual\, we will have Ultimate Guard prizes in addition to the extra pack you receive for participating. \n\n\n\n\nPrerelease Pack Contents: \n\n6 x SECRETS OF STRIXHAVEN Play Boosters; each play Booster contains 14 Magic cards\n1 foil Rare or Mythic Rare\n1 deck box\n1 college-specific spindown die
URL:https://northernalliancegames.co.uk/event/magic-the-gathering-secrets-of-strixhaven-pre-release-event-friday-17th-april/
LOCATION:Northern Alliance Games\, Hoults Yard\, 6 Maling Court\,\, NEWCASTLE UPON TYNE\, Tyne and Wear\, NE6 2HL\, United Kingdom
CATEGORIES:Magic the Gathering,Pre-release
ATTACH;FMTTYPE=image/jpeg:https://northernalliancegames.co.uk/wp-content/uploads/2026/03/Secrets-of-Strixhaven-Prerelease.jpeg
ORGANIZER;CN="Sam Bray":MAILTO:sampbray@gmail.com
END:VEVENT
BEGIN:VEVENT
DTSTART;TZID=UTC:20260322T140000
DTEND;TZID=UTC:20260322T170000
DTSTAMP:20260419T135422
CREATED:20260319T193149Z
LAST-MODIFIED:20260319T200258Z
UID:8090-1774188000-1774198800@northernalliancegames.co.uk
SUMMARY:Pokémon - Mega Evolution: Perfect Order - Prerelease event (Sunday 22nd March)
DESCRIPTION:Join us for another Pokemon PreRelease! \nGet the newest cards at our Pokémon TCG: MEGA EVOLUTION—Perfect Order Build & Battle PreRelease events! \nEnjoy quick games and powerful PreRelease promos with the MEGA EVOLUTION—Perfect Order Build & Battle Box. \nMEGA EVOLUTION—Perfect Order arrives 27th March but you can visit us to start playing with it early on 14th at 2pm. \nThe PreRelease format allows players to compete with a 40-card deck\, with four Prize cards set aside at the start of play\, as opposed to a 60-card deck with six Prize cards. This format is perfect for introducing new players to the exciting world of the Pokémon TCG with quick\, fun games\, and it also gives seasoned players a window into all that MEGA EVOLUTION—Perfect Order has to offer. \nDue to a limited card pool and the variance of cards that can be acquired in a Build & Battle Box\, Prerelease events are also a great opportunity to flex your creative deck-building skills. \nEach Build & Battle Box includes: \n\nA 40-card ready-to-play deck\, including 1 of 4 unique foil promo cards\n\n4 Pokémon TCG: MEGA EVOLUTION—Perfect Order booster packs\nA code card for Pokémon TCG Live\n\n\n\nSign up today as space is limited or each event! Play in 3 games and receive 3 packs of MEGA EVOLUTION – Perfect Order as a reward. \nWhat do I need to know before attending? \nPlease bring your Pokemon Player ID. If you have not got one\, please register with Pokemon Play before attending. Each round last 45 minutes.
URL:https://northernalliancegames.co.uk/event/pokemon-mega-evolution-perfect-order-prerelease-event-sunday-22nd-march/
LOCATION:Northern Alliance Games\, Hoults Yard\, 6 Maling Court\,\, NEWCASTLE UPON TYNE\, Tyne and Wear\, NE6 2HL\, United Kingdom
CATEGORIES:Pokemon TCG,Pre-release
ATTACH;FMTTYPE=image/jpeg:https://northernalliancegames.co.uk/wp-content/uploads/2026/03/260314-Perfect-Order-Prerelease-e1773949752809.jpeg
ORGANIZER;CN="Sam Bray":MAILTO:sampbray@gmail.com
END:VEVENT
BEGIN:VEVENT
DTSTART;TZID=UTC:20260314T140000
DTEND;TZID=UTC:20260314T170000
DTSTAMP:20260419T135422
CREATED:20260226T201754Z
LAST-MODIFIED:20260313T201249Z
UID:7232-1773496800-1773507600@northernalliancegames.co.uk
SUMMARY:Pokémon - Mega Evolution: Perfect Order - Prerelease event (Saturday 14th March)
DESCRIPTION:Join us for our first-ever Pokémon TCG event! \nGet the newest cards at our Pokémon TCG: MEGA EVOLUTION—Perfect Order Build & Battle PreRelease events! \nEnjoy quick games and powerful PreRelease promos with the MEGA EVOLUTION—Perfect Order Build & Battle Box. \nMEGA EVOLUTION—Perfect Order arrives 27th March but you can visit us to start playing with it early on 14th at 2pm. \nThe PreRelease format allows players to compete with a 40-card deck\, with four Prize cards set aside at the start of play\, as opposed to a 60-card deck with six Prize cards. This format is perfect for introducing new players to the exciting world of the Pokémon TCG with quick\, fun games\, and it also gives seasoned players a window into all that MEGA EVOLUTION—Perfect Order has to offer. \nDue to a limited card pool and the variance of cards that can be acquired in a Build & Battle Box\, Prerelease events are also a great opportunity to flex your creative deck-building skills. \nEach Build & Battle Box includes: \n\nA 40-card ready-to-play deck\, including 1 of 4 unique foil promo cards\n\n4 Pokémon TCG: MEGA EVOLUTION—Perfect Order booster packs\nA code card for Pokémon TCG Live\n\n\n\nSign up today as space is limited or each event! Play in 3 games and receive 3 packs of MEGA EVOLUTION – Perfect Order as a reward. \nWhat do I need to know before attending? \nPlease bring your Pokemon Player ID. If you have not got one\, please register with Pokemon Play before attending. Each round last 45 minutes.
URL:https://northernalliancegames.co.uk/event/pokemon-mega-evolution-perfect-order-prerelease-event-saturday-14th-march/
LOCATION:Northern Alliance Games\, Hoults Yard\, 6 Maling Court\,\, NEWCASTLE UPON TYNE\, Tyne and Wear\, NE6 2HL\, United Kingdom
CATEGORIES:Pokemon TCG,Pre-release
ATTACH;FMTTYPE=image/jpeg:https://northernalliancegames.co.uk/wp-content/uploads/2026/02/260314-Perfect-Order-Prerelease.jpeg
ORGANIZER;CN="Sam Bray":MAILTO:sampbray@gmail.com
END:VEVENT
BEGIN:VEVENT
DTSTART;TZID=UTC:20260116T180000
DTEND;TZID=UTC:20260116T220000
DTSTAMP:20260419T135422
CREATED:20251210T221705Z
LAST-MODIFIED:20260110T113321Z
UID:6002-1768586400-1768600800@northernalliancegames.co.uk
SUMMARY:MTG Lorwyn Eclipsed Pre-release!
DESCRIPTION:Prerelease is your first opportunity to get your hands on the newest Magic: The Gathering release and explore what the set has to offer. Prerelease Packs contain everything a player needs to be guided through deck building and begin facing off in epic one-on-one matches. \nIn the pre-release event\, you will open your pack\, create a deck of 40 cards from those that you open (You can borrow any basic lands from us that you need)\, then compete in 3 rounds of 1v1 games. \nWe are pleased to be also offering Ultimate Guard Items as Prize Support for our pre-release events.\n \nMore about Lorwyn Eclipsed \nDare to enter the ever-changing plane of Lorwyn and Shadowmoor. Summon beloved Kithkin\, boggarts\, merrow\, and Elves\, that feature new and returning mechanics as well as art from new and returning Lorwyn™ artists! Discover your true self by crossing the boundary of eternal day into eternal night and rise triumphant as a master of order and chaos. \n\n\nContents:\n\n\n6 Lorwyn Eclipsed Play Boosters\n\nEach Play Booster contains 14 Magic: The Gathering cards \n\nMay contain these cards: ECL 1–351; SPG 129–148\n1–4 cards of rarity rare or higher (2: 27%; 3: 2%; 4: <1%)\n3–5 uncommon cards\n6–9 common cards\n1 land\n1 card of any rarity is traditional foil\nFoil borderless mythic rare in <1% of boosters\nTraditional foil land replaces a land in 20% of boosters\n1 traditional foil rare/mythic rare card\nSpindown™ life counter
URL:https://northernalliancegames.co.uk/event/mtg-lorwyn-eclipsed-pre-release/
LOCATION:Northern Alliance Games\, Hoults Yard\, 6 Maling Court\,\, NEWCASTLE UPON TYNE\, Tyne and Wear\, NE6 2HL\, United Kingdom
CATEGORIES:Magic the Gathering,Pre-release
ATTACH;FMTTYPE=image/png:https://northernalliancegames.co.uk/wp-content/uploads/2025/12/Lorwyn-Prerelase.png
ORGANIZER;CN="Sam Bray":MAILTO:sampbray@gmail.com
END:VEVENT
BEGIN:VEVENT
DTSTART;TZID=UTC:20251114T180000
DTEND;TZID=UTC:20251114T220000
DTSTAMP:20260419T135422
CREATED:20250929T213528Z
LAST-MODIFIED:20251107T173801Z
UID:5518-1763143200-1763157600@northernalliancegames.co.uk
SUMMARY:Magic the Gathering - Avatar the Last Airbender Pre-release
DESCRIPTION:Join us for your first chance to play with the new set of Magic the Gathering! Buy your ticket below to make sure you get a spot! \nWe have 15 pre-release packs\, which include the promo card and spin down dice. If we are oversubscribed\, we are allowed to use normal play boosters to increase the spaces available for the event! We will charge these places at a slightly lower price to account for the missing promo and die. \nWe also have the added bonus of being able to provide ADDITIONAL prize support in the form of gaming accessories from Ultimate Guard\, on top of the usual prize boosters. \nWield the power of the elements as Avatar: The Last Airbender™ teams up with Magic: The Gathering®! Join the fray with powerful bending masters\, hybrid animals\, and unforgettable allies wielding blades\, boomerangs\, and the occasional cabbage. Climb atop a sky bison and travel from the walls of Ba Sing Se to the heart of the Fire Nation and restore balance to the world—or conquer it! \n\n\nJoin us for your very first chance to play with the cards from a brand-new set\, A week before the set is released\, we hold a friendly\, informal tournament where you can crack open some packs\, build a deck\, and try out all the exciting new cards and mechanics the set has to offer\n\n\n\nDeck building will start at 6pm\, and you will have 45 minutes to build your deck using the cards from your pre-release pack. We will provide plenty of basic lands to borrow for your deck.
URL:https://northernalliancegames.co.uk/event/magic-the-gathering-avatar-the-last-airbender-pre-release/
LOCATION:Northern Alliance Games\, Hoults Yard\, 6 Maling Court\,\, NEWCASTLE UPON TYNE\, Tyne and Wear\, NE6 2HL\, United Kingdom
CATEGORIES:Magic the Gathering,Pre-release
ORGANIZER;CN="Sam Bray":MAILTO:sampbray@gmail.com
END:VEVENT
BEGIN:VEVENT
DTSTART;TZID=UTC:20250919T180000
DTEND;TZID=UTC:20250919T220000
DTSTAMP:20260419T135422
CREATED:20250831T225649Z
LAST-MODIFIED:20250902T081110Z
UID:5287-1758304800-1758319200@northernalliancegames.co.uk
SUMMARY:Magic the Gathering Spider Man pre-release
DESCRIPTION:Join us for your first chance to play with the cards from a brand-new set. A week before the set is released\, we hold a friendly\, informal tournament where you can crack open some packs\, build a deck\, and try out all the exciting new cards and mechanics the set has to offer\n\n\nYou will have 45 minutes to open your pre-release packs and buld a 40 card deck using those cards and basic lands (We provide plenty if you need them). \n\n\nPlayers who register for the event using their individual Wizards Account are eligible to receive promo and store prizing materials at the event. We will also be providing Ultimate Guard items as prizes\, in addition to the usual prizing.
URL:https://northernalliancegames.co.uk/event/magic-the-gathering-spider-man-pre-release/
LOCATION:Northern Alliance Games\, Hoults Yard\, 6 Maling Court\,\, NEWCASTLE UPON TYNE\, Tyne and Wear\, NE6 2HL\, United Kingdom
CATEGORIES:Magic the Gathering,Pre-release
ATTACH;FMTTYPE=image/png:https://northernalliancegames.co.uk/wp-content/uploads/2025/08/SP-pre-release.png
ORGANIZER;CN="Sam Bray":MAILTO:sampbray@gmail.com
END:VEVENT
BEGIN:VEVENT
DTSTART;TZID=UTC:20250725T180000
DTEND;TZID=UTC:20250725T220000
DTSTAMP:20260419T135422
CREATED:20250629T163635Z
LAST-MODIFIED:20250725T053410Z
UID:4671-1753466400-1753480800@northernalliancegames.co.uk
SUMMARY:Magic the Gathering Edge of Eternities pre-release
DESCRIPTION:Join us for the next set! Magic the Gathering is going to space! \n  \nThis is the pre-release event for Edge of Eternities. We will have the rest of the product line for sale on the day as well. \nIn addition to the usual booster pack prizing\, we will have some Ultimate Guard products available as prizing as well! \nArriving by 6pm\, and starting soon after.
URL:https://northernalliancegames.co.uk/event/magic-the-gathering-edge-of-eternities-pre-release/
LOCATION:Northern Alliance Games\, Hoults Yard\, 6 Maling Court\,\, NEWCASTLE UPON TYNE\, Tyne and Wear\, NE6 2HL\, United Kingdom
CATEGORIES:Magic the Gathering,Pre-release
ATTACH;FMTTYPE=image/jpeg:https://northernalliancegames.co.uk/wp-content/uploads/2025/06/Edge-of-Eternities-pre-release.jpg
ORGANIZER;CN="Sam Bray":MAILTO:sampbray@gmail.com
END:VEVENT
BEGIN:VEVENT
DTSTART;TZID=UTC:20250606T180000
DTEND;TZID=UTC:20250606T213000
DTSTAMP:20260419T135422
CREATED:20250313T162504Z
LAST-MODIFIED:20250509T133118Z
UID:3962-1749232800-1749245400@northernalliancegames.co.uk
SUMMARY:Magic the Gathering Final Fantasy pre-release
DESCRIPTION:Join us for our first Magic the Gathering Pre-release event! And it is a big one! \n  \nBuy your ticket here ahead of time\, as this set is going to be very popular.
URL:https://northernalliancegames.co.uk/event/magic-the-gathering-final-fantasy-pre-release/
LOCATION:Northern Alliance Games\, Hoults Yard\, 6 Maling Court\,\, NEWCASTLE UPON TYNE\, Tyne and Wear\, NE6 2HL\, United Kingdom
CATEGORIES:Magic the Gathering,Pre-release
ATTACH;FMTTYPE=image/jpeg:https://northernalliancegames.co.uk/wp-content/uploads/2025/03/Final-Fantasy-Prerelease.jpg
ORGANIZER;CN="Sam Bray":MAILTO:sampbray@gmail.com
END:VEVENT
END:VCALENDAR